
BEGIN:VCALENDAR
PRODID:CHBA-CO
VERSION:2.0
BEGIN:VEVENT
STATUS:DRAFT
UID:20398
DTSTART;VALUE=DATE:20230310T003000Z
DTEND;VALUE=DATE:20230310T030000Z
SUMMARY:Buildin’ After Hours – Colonial Countertops
CLASS:PUBLIC 
DESCRIPTION:
LOCATION:Colonial Countertops
END:VEVENT
END:VCALENDAR

END:VCALENDAR
